BEGIN:VCALENDAR
PRODID:NingEventWidget-v1
VERSION:2.0
METHOD:PUBLISH
BEGIN:VTIMEZONE
TZID:America/Los_Angeles
X-LIC-LOCATION:America/Los_Angeles
BEGIN:DAYLIGHT
TZOFFSETFROM:-0800
TZOFFSETTO:-0700
TZNAME:PDT
DTSTART:19700308T020000
RRULE:FREQ=YEARLY;BYMONTH=3;BYDAY=2SU
END:DAYLIGHT
BEGIN:STANDARD
TZOFFSETFROM:-0700
TZOFFSETTO:-0800
TZNAME:PST
DTSTART:19701101T020000
RRULE:FREQ=YEARLY;BYMONTH=11;BYDAY=1SU
END:STANDARD
END:VTIMEZONE
BEGIN:VEVENT
UID:1688216:Event:779543
DTSTAMP:20260424T171504Z
SUMMARY:Barista Jam WBC in WDC
DESCRIPTION:This little event will coincide with the WBC (23rd - 25th 
 of June 2010). I am not trying to brag here, but it may be a little be
 tter than actually being there. First, better food. Second, cheaper. T
 hird, you don't have to leave 'Merica.\n\nThere will be more details a
 s available as the time draws near.\nKeep up to date here: http://wbci
 nwdcbaristajam.wordpress.com/\n\nFor more information visit https://ww
 w.baristaexchange.com/events/barista-jam-wbc-in-wdc
DTSTART;TZID=America/Los_Angeles:20100623T180000
DTEND;TZID=America/Los_Angeles:20100625T190000
CATEGORIES:barista, jammy-jam
LOCATION:All over Washington, DC but mostly CCCTCDC
WEBSITE:http://wbcinwdcbaristajam.wordpress.com/
URL:http://wbcinwdcbaristajam.wordpress.com/
CONTACT:
ORGANIZER;CN=randy:https://www.baristaexchange.com/profile/randy73
ATTACH;FMTTYPE="image/jpeg":
ATTENDEE;ROLE=REQ-PARTICIPANT;PARTSTAT=ACCEPTED;RSVP=TRUE;CN="Logan Po
 tts":https://www.baristaexchange.com/profile/LoganPotts
ATTENDEE;ROLE=REQ-PARTICIPANT;PARTSTAT=ACCEPTED;RSVP=TRUE;CN=randy:htt
 ps://www.baristaexchange.com/profile/randy73
END:VEVENT
END:VCALENDAR
