BEGIN:VCALENDAR
PRODID:NingEventWidget-v1
VERSION:2.0
METHOD:PUBLISH
BEGIN:VTIMEZONE
TZID:America/Los_Angeles
X-LIC-LOCATION:America/Los_Angeles
BEGIN:DAYLIGHT
TZOFFSETFROM:-0800
TZOFFSETTO:-0700
TZNAME:PDT
DTSTART:19700308T020000
RRULE:FREQ=YEARLY;BYMONTH=3;BYDAY=2SU
END:DAYLIGHT
BEGIN:STANDARD
TZOFFSETFROM:-0700
TZOFFSETTO:-0800
TZNAME:PST
DTSTART:19701101T020000
RRULE:FREQ=YEARLY;BYMONTH=11;BYDAY=1SU
END:STANDARD
END:VTIMEZONE
BEGIN:VEVENT
UID:1688216:Event:996734
DTSTAMP:20260422T023436Z
SUMMARY:Barista Basics #6
DESCRIPTION:Levi, of Boyrsita.com, has been serving espresso and coffe
 e for over seven years and is now seeking to share his knowledge with 
 anyone interested in this caffeinated craft. He has worked at three di
 fferent stands, and received training from various roasters and trades
 hows. Exploits about his love for coffee can be found at www.blogspot.
 boyrista.com, where you will find a picture of Levi making coffee at c
 areer day in 1991.This would be a great workshop for anyone who is int
 erested in becoming a barista or just loves espresso and coffee drinks
 .During the workshop Levi will spend an hour showing and teaching you 
 about:\n\n\nEspresso machine/grinder basics \nProper espresso dosing/
 tamping \nHow to spy a good/bad shot of espresso \nMilk steaming/fro
 thing \nMocha/latte/drip/americano basics\nAnd how to impress a baris
 ta in an interview \n\nAfter that first hour, to second hour is set a
 side for you attendees to have hands on time. This is hands on, and yo
 u will be making drinks completely on your own by the end of the night
 . You will team up with another attendee (2 teams of 2 people) and spe
 nd 20-30 minutes making drinks with Levi's supervision. After 20-30 mi
 nutes the second team will finish the remaining class time making drin
 ks. This is not a lecture in a stuffy room, this is an on-site experie
 nce to put on your resume!This workshop will be held from 6-8 PM on Ja
 nuary 10th.The cost is $40 for an exclusive 4 person class. This cost 
 includes all coffee supplies, snacks for the evening, and free drinks.
 Please email with any questions!Or,Stop in the shop in person:21639 Re
 nton-Maple Valley RDMaple Valley, WA 98038RSVP is required.\n\nFor mor
 e information visit https://www.baristaexchange.com/events/barista-bas
 ics-6
DTSTART;TZID=America/Los_Angeles:20110110T180000
DTEND;TZID=America/Los_Angeles:20110110T200000
CATEGORIES:class
LOCATION:Maple Valley
WEBSITE:http://boyrista.blogspot.com/2010/12/barista-basics-6.html
URL:http://boyrista.blogspot.com/2010/12/barista-basics-6.html
CONTACT:
ORGANIZER;CN="Levi Andersen":https://www.baristaexchange.com/profile/L
 eviAndersen
ATTACH;FMTTYPE="image/jpeg":http://storage.ning.com/topology/rest/1.0/
 file/get/91921017?profile=original
ATTENDEE;ROLE=REQ-PARTICIPANT;PARTSTAT=ACCEPTED;RSVP=TRUE;CN="Levi And
 ersen":https://www.baristaexchange.com/profile/LeviAndersen
END:VEVENT
END:VCALENDAR
