BEGIN:VCALENDAR
PRODID:NingEventWidget-v1
VERSION:2.0
METHOD:PUBLISH
BEGIN:VTIMEZONE
TZID:America/Los_Angeles
X-LIC-LOCATION:America/Los_Angeles
BEGIN:DAYLIGHT
TZOFFSETFROM:-0800
TZOFFSETTO:-0700
TZNAME:PDT
DTSTART:19700308T020000
RRULE:FREQ=YEARLY;BYMONTH=3;BYDAY=2SU
END:DAYLIGHT
BEGIN:STANDARD
TZOFFSETFROM:-0700
TZOFFSETTO:-0800
TZNAME:PST
DTSTART:19701101T020000
RRULE:FREQ=YEARLY;BYMONTH=11;BYDAY=1SU
END:STANDARD
END:VTIMEZONE
BEGIN:VEVENT
UID:1688216:Event:899274
DTSTAMP:20260423T231645Z
SUMMARY:August Philly TNT
DESCRIPTION:Thursday, August 26, 2010 sign up at 7:00pm - pour at 8:00
 pm. $5.00 - Free to watch!\n\nUltimo Coffee, 15th and Miflin, South Ph
 illy\n\n\n\nFor more information visit https://www.baristaexchange.com
 /events/august-philly-tnt
DTSTART;TZID=America/Los_Angeles:20100826T190000
DTEND;TZID=America/Los_Angeles:20100826T220000
CATEGORIES:latte, art, throwdown
LOCATION:Ultimo Coffee, 15th and Miflin, South Philly
WEBSITE:http://philadelphiatnt.wordpress.com/
URL:http://philadelphiatnt.wordpress.com/
CONTACT:215.339.5177
ORGANIZER:Counter Culture Coffee - Ultimo Coffee
ATTACH;FMTTYPE="image/jpeg":http://storage.ning.com/topology/rest/1.0/
 file/get/91919103?profile=original
ATTENDEE;ROLE=REQ-PARTICIPANT;PARTSTAT=ACCEPTED;RSVP=TRUE;CN=Kyle:http
 s://www.baristaexchange.com/profile/Kyle78
ATTENDEE;ROLE=REQ-PARTICIPANT;PARTSTAT=ACCEPTED;RSVP=TRUE;CN="Tom Blan
 chard":https://www.baristaexchange.com/profile/TomBlanchard
END:VEVENT
END:VCALENDAR
