BEGIN:VCALENDAR
PRODID:NingEventWidget-v1
VERSION:2.0
METHOD:PUBLISH
BEGIN:VTIMEZONE
TZID:America/Los_Angeles
X-LIC-LOCATION:America/Los_Angeles
BEGIN:DAYLIGHT
TZOFFSETFROM:-0800
TZOFFSETTO:-0700
TZNAME:PDT
DTSTART:19700308T020000
RRULE:FREQ=YEARLY;BYMONTH=3;BYDAY=2SU
END:DAYLIGHT
BEGIN:STANDARD
TZOFFSETFROM:-0700
TZOFFSETTO:-0800
TZNAME:PST
DTSTART:19701101T020000
RRULE:FREQ=YEARLY;BYMONTH=11;BYDAY=1SU
END:STANDARD
END:VTIMEZONE
BEGIN:VEVENT
UID:1688216:Event:580424
DTSTAMP:20260422T144012Z
SUMMARY:August Barista Jam
DESCRIPTION:Friday August 21 8pm-11pm\nNew Harvest Coffee Roasters hos
 ts this month's barista jam. Come watch/pour in the latte art throwdow
 n for the coveted traveling perk trophy and bragging rights for the mo
 nth. We will also be cupping Cup of Excellence Costa Rica El Alto just
  in!\n\nFor more information visit https://www.baristaexchange.com/eve
 nts/august-barista-jam
DTSTART;TZID=America/Los_Angeles:20090821T200000
DTEND;TZID=America/Los_Angeles:20090821T230000
CATEGORIES:barista, jam
LOCATION:Pawtucket Rhode Island
WEBSITE:http://maps.google.com/maps?f=q&source=s_q&hl=en&geocode=&q=Ne
 w+Harvest+Coffee+Roasters+1005+Main+Street+Pawtucket+RI+02860&sll=37.0
 625,-95.677068&sspn=27.366321,72.333984&ie=UTF8&ll=41.867036,-71.39971
 7&spn=0.006264,0.01766&z=16&iwloc=A&iwd=1&cid=7730043656455354149&dtab
 =2
URL:http://maps.google.com/maps?f=q&source=s_q&hl=en&geocode=&q=New+Ha
 rvest+Coffee+Roasters+1005+Main+Street+Pawtucket+RI+02860&sll=37.0625,
 -95.677068&sspn=27.366321,72.333984&ie=UTF8&ll=41.867036,-71.399717&sp
 n=0.006264,0.01766&z=16&iwloc=A&iwd=1&cid=7730043656455354149&dtab=2
CONTACT:401.438.1999
ORGANIZER;CN="Gerra Harrigan":https://www.baristaexchange.com/profile/
 GerraHarrigan
ATTACH;FMTTYPE="image/jpeg":http://storage.ning.com/topology/rest/1.0/
 file/get/91909579?profile=original
ATTENDEE;ROLE=REQ-PARTICIPANT;PARTSTAT=ACCEPTED;RSVP=TRUE;CN="Gerra Ha
 rrigan":https://www.baristaexchange.com/profile/GerraHarrigan
END:VEVENT
END:VCALENDAR
