BEGIN:VCALENDAR
PRODID:NingEventWidget-v1
VERSION:2.0
METHOD:PUBLISH
BEGIN:VTIMEZONE
TZID:America/Los_Angeles
X-LIC-LOCATION:America/Los_Angeles
BEGIN:DAYLIGHT
TZOFFSETFROM:-0800
TZOFFSETTO:-0700
TZNAME:PDT
DTSTART:19700308T020000
RRULE:FREQ=YEARLY;BYMONTH=3;BYDAY=2SU
END:DAYLIGHT
BEGIN:STANDARD
TZOFFSETFROM:-0700
TZOFFSETTO:-0800
TZNAME:PST
DTSTART:19701101T020000
RRULE:FREQ=YEARLY;BYMONTH=11;BYDAY=1SU
END:STANDARD
END:VTIMEZONE
BEGIN:VEVENT
UID:1688216:Event:903903
DTSTAMP:20260423T130429Z
SUMMARY:Atlanta Manual Brewing Battle.
DESCRIPTION:Our fourth Manual Brewing Battle shall be officially held 
 Sunday, September 19th, at 6pm. It will be held in the Batdorf & Brons
 on Coffee Coliseum in Atlanta. The specifics are this:\nOne Coffee.\nA
 ny Device/Method.\nOne Winner.\nAmazing Judging, including local chefs
  and coffee professionals.\nLots of fun.\nCommunity Dinner directly af
 terwards.\nhttp://www.facebook.com/event.php?eid=150813301598368&ref=m
 f\n\nFor more information visit https://www.baristaexchange.com/events
 /atlanta-manual-brewing-battle
DTSTART;TZID=America/Los_Angeles:20100919T180000
DTEND;TZID=America/Los_Angeles:20100919T203000
CATEGORIES:manual, brewing, battle
LOCATION:Batdorf & Bronson Coffee Roastery
WEBSITE:http://www.facebook.com/event.php?eid=150813301598368&ref=mf
URL:http://www.facebook.com/event.php?eid=150813301598368&ref=mf
CONTACT:(404)316-7022
ORGANIZER;CN="Jason Dominy":https://www.baristaexchange.com/profile/jd
 ominy
ATTACH;FMTTYPE="image/jpeg":http://storage.ning.com/topology/rest/1.0/
 file/get/91919065?profile=original
ATTENDEE;ROLE=REQ-PARTICIPANT;PARTSTAT=ACCEPTED;RSVP=TRUE;CN="Karalynn
  Mork McDermott":https://www.baristaexchange.com/profile/KaralynnMorkM
 cDermott
ATTENDEE;ROLE=REQ-PARTICIPANT;PARTSTAT=ACCEPTED;RSVP=TRUE;CN="Jason Do
 miny":https://www.baristaexchange.com/profile/jdominy
END:VEVENT
END:VCALENDAR
