BEGIN:VCALENDAR
PRODID:NingEventWidget-v1
VERSION:2.0
METHOD:PUBLISH
BEGIN:VTIMEZONE
TZID:America/Los_Angeles
X-LIC-LOCATION:America/Los_Angeles
BEGIN:DAYLIGHT
TZOFFSETFROM:-0800
TZOFFSETTO:-0700
TZNAME:PDT
DTSTART:19700308T020000
RRULE:FREQ=YEARLY;BYMONTH=3;BYDAY=2SU
END:DAYLIGHT
BEGIN:STANDARD
TZOFFSETFROM:-0700
TZOFFSETTO:-0800
TZNAME:PST
DTSTART:19701101T020000
RRULE:FREQ=YEARLY;BYMONTH=11;BYDAY=1SU
END:STANDARD
END:VTIMEZONE
BEGIN:VEVENT
UID:1688216:Event:902628
DTSTAMP:20260424T025111Z
SUMMARY:Asheville NC TNT @Dripolator Coffee Bar
DESCRIPTION:Its that time again coffee lovers...time to throwdown! The
  Latte Art Throwdown is getting bigger and better each time and we nee
 d all you Baristas out there to come and show some love. Its a great w
 ay to network and hang with fellow Baristas who love their craft. You'
 ll have a great time pouring lattes for fun and d...rankin beer (which
  is cheaper @ a TNT) with us! Its easy: $5 to throwdown and if you win
  you get all dat money! Plus there are awesome prizes for 2nd and 3rd.
  The throwdown is FREE to all spectators plus you can snag a FREE Latt
 e from any one of the talented Asheville area Baristas! Come help supp
 ort and be a part of our growing coffee community...we need you!\np.s.
  Hot n fresh beats will be there. Will you?\n\nFor more information vi
 sit https://www.baristaexchange.com/events/asheville-nc-tnt-dripolator
 -2
DTSTART;TZID=America/Los_Angeles:20100819T190000
DTEND;TZID=America/Los_Angeles:20100819T220000
CATEGORIES:latte, art, "throwdown/tnt/barista", jam
LOCATION:Dripolator Coffee Bar
WEBSITE:http://www.dripasheville.com
URL:http://www.dripasheville.com
CONTACT:828.398.0209
ORGANIZER;CN="scott satterwhite":https://www.baristaexchange.com/profi
 le/scottsatterwhite
ATTACH;FMTTYPE="image/jpeg":http://storage.ning.com/topology/rest/1.0/
 file/get/91919137?profile=original
ATTENDEE;ROLE=REQ-PARTICIPANT;PARTSTAT=ACCEPTED;RSVP=TRUE;CN="scott sa
 tterwhite":https://www.baristaexchange.com/profile/scottsatterwhite
END:VEVENT
END:VCALENDAR
