BEGIN:VCALENDAR
PRODID:NingEventWidget-v1
VERSION:2.0
METHOD:PUBLISH
BEGIN:VTIMEZONE
TZID:America/Los_Angeles
X-LIC-LOCATION:America/Los_Angeles
BEGIN:DAYLIGHT
TZOFFSETFROM:-0800
TZOFFSETTO:-0700
TZNAME:PDT
DTSTART:19700308T020000
RRULE:FREQ=YEARLY;BYMONTH=3;BYDAY=2SU
END:DAYLIGHT
BEGIN:STANDARD
TZOFFSETFROM:-0700
TZOFFSETTO:-0800
TZNAME:PST
DTSTART:19701101T020000
RRULE:FREQ=YEARLY;BYMONTH=11;BYDAY=1SU
END:STANDARD
END:VTIMEZONE
BEGIN:VEVENT
UID:1688216:Event:882900
DTSTAMP:20260425T032534Z
SUMMARY:Asheville NC TNT @Dripolator Coffee Bar
DESCRIPTION:Parks don't build themselves people. Nor do Lattes pour th
 emselves. So we at the Dripolator are bringing Baristas from all aroun
 d our beautiful city together to pour those Lattes and in turn, assist
  in the building of parks and greenways. All proceeds from this month'
 s Throwdown will go to the Asheville Parks and Gree...nways Foundation
  to aide them in their efforts to beautify our city. You may be thinki
 ng, \"Now here is a fun and easy way to support some good causes...\" 
 You're Right! It gets better. If you've never been to a Latte Art Thro
 wdown, now is the time. Super Specials on Wedge beers and wine, FREE L
 attes, Live DJ, Coffee lovers everywhere! All this adds up to a good t
 ime, don't miss it. All Baristas welcome, only $5 to pour, plus great 
 prizes. All Spectators welcome, its free.\n\nFor more information visi
 t https://www.baristaexchange.com/events/asheville-nc-tnt-dripolator-1
DTSTART;TZID=America/Los_Angeles:20100715T190000
DTEND;TZID=America/Los_Angeles:20100715T220000
CATEGORIES:latte, art, "throwdown/tnt/barista", jam
LOCATION:Dripolator Coffee Bar
WEBSITE:http://www.dripasheville.com
URL:http://www.dripasheville.com
CONTACT:828.398.0209
ORGANIZER;CN="scott satterwhite":https://www.baristaexchange.com/profi
 le/scottsatterwhite
ATTACH;FMTTYPE="image/jpeg":http://storage.ning.com/topology/rest/1.0/
 file/get/91918600?profile=original
ATTENDEE;ROLE=REQ-PARTICIPANT;PARTSTAT=ACCEPTED;RSVP=TRUE;CN="scott sa
 tterwhite":https://www.baristaexchange.com/profile/scottsatterwhite
END:VEVENT
END:VCALENDAR
