BEGIN:VCALENDAR
PRODID:NingEventWidget-v1
VERSION:2.0
METHOD:PUBLISH
BEGIN:VTIMEZONE
TZID:America/Los_Angeles
X-LIC-LOCATION:America/Los_Angeles
BEGIN:DAYLIGHT
TZOFFSETFROM:-0800
TZOFFSETTO:-0700
TZNAME:PDT
DTSTART:19700308T020000
RRULE:FREQ=YEARLY;BYMONTH=3;BYDAY=2SU
END:DAYLIGHT
BEGIN:STANDARD
TZOFFSETFROM:-0700
TZOFFSETTO:-0800
TZNAME:PST
DTSTART:19701101T020000
RRULE:FREQ=YEARLY;BYMONTH=11;BYDAY=1SU
END:STANDARD
END:VTIMEZONE
BEGIN:VEVENT
UID:1688216:Event:872575
DTSTAMP:20260423T180345Z
SUMMARY:Arizona Latte Art Competition
DESCRIPTION:1st Annual Arizona Latte Art Competition\nSept. 4th 2010 9
 am to 3pm\nlocated at the JW Marriot (Desert Ridge)\nDuring the event 
 Phoenix Cooks\nwww.phoenixcooks.com\n\n16 competitors ONLY!\nFormat:\n
 -Free Form\n-Baristas can bring their own pitchers\n-2 drinks 10oz cup
  (cups to be provided)\n-Bracket Format\n-Brackets will be chosen from
  a hat by a neutral party.\n1st 2nd 3rd place will be awarded!\n\nTO C
 OMPETE : Send an email to AZlatteart@gmail.com\n\n$30 Entry includes 2
  tickets to Phoenix Cooks (www.phoenixcooks.com)\n***Competitors will 
 be competing in front of hundreds of people\nBarista Jam to follow at 
 Press Coffee Roasters> Competitors to receive free DJ, food, drink and
  beer (id required)\n\nFor more information visit https://www.baristae
 xchange.com/events/arizona-latte-art-competition
DTSTART;TZID=America/Los_Angeles:20100904T090000
DTEND;TZID=America/Los_Angeles:20100904T150000
CATEGORIES:"jam!"
LOCATION:JW Marriot (Desert Ridge)
WEBSITE:
URL:
CONTACT:
ORGANIZER:2 Arizona Barista's
ATTACH;FMTTYPE="image/jpeg":http://storage.ning.com/topology/rest/1.0/
 file/get/91918279?profile=original
ATTENDEE;ROLE=REQ-PARTICIPANT;PARTSTAT=ACCEPTED;RSVP=TRUE;CN=Steve:htt
 ps://www.baristaexchange.com/profile/Stephen89
ATTENDEE;ROLE=REQ-PARTICIPANT;PARTSTAT=ACCEPTED;RSVP=TRUE;CN="Dylan Ju
 ng":https://www.baristaexchange.com/profile/DylanJung
END:VEVENT
END:VCALENDAR
