BEGIN:VCALENDAR
PRODID:NingEventWidget-v1
VERSION:2.0
METHOD:PUBLISH
BEGIN:VTIMEZONE
TZID:America/Los_Angeles
X-LIC-LOCATION:America/Los_Angeles
BEGIN:DAYLIGHT
TZOFFSETFROM:-0800
TZOFFSETTO:-0700
TZNAME:PDT
DTSTART:19700308T020000
RRULE:FREQ=YEARLY;BYMONTH=3;BYDAY=2SU
END:DAYLIGHT
BEGIN:STANDARD
TZOFFSETFROM:-0700
TZOFFSETTO:-0800
TZNAME:PST
DTSTART:19701101T020000
RRULE:FREQ=YEARLY;BYMONTH=11;BYDAY=1SU
END:STANDARD
END:VTIMEZONE
BEGIN:VEVENT
UID:1688216:Event:476594
DTSTAMP:20260421T175622Z
SUMMARY:Alternative Coffee Brewing Methods Workshop.
DESCRIPTION:There's alot of new ways to brew coffee at home, and I am 
 not talking about pod brewers. Have you ever heard of a Chemex? A siph
 on brewer or vacuum pot? A French Press? An inverted French Press? An 
 AeroPress? A Pourover? These are all brewing devices coffeegeeks are u
 sing at their home to brew the best coffees, and I want to open this s
 ecret world up to you! So, we are going to dedicate a whole workshop o
 n these alternate brewing methods! Special Guest will be Shannon Hudge
 ns from Coffee and Crema in Greenville, SC!\nThis class is limited to 
 20 people so RSVP soon!\n\nFor more information visit https://www.bari
 staexchange.com/events/alternative-coffee-brewing
DTSTART;TZID=America/Los_Angeles:20090604T190000
DTEND;TZID=America/Los_Angeles:20090604T210000
CATEGORIES:coffee, workshop
LOCATION:Dilworth Coffee Roastery
WEBSITE:
URL:
CONTACT:(704)340-3005
ORGANIZER;CN="Jason Dominy":https://www.baristaexchange.com/profile/jd
 ominy
ATTACH;FMTTYPE="image/jpeg":http://storage.ning.com/topology/rest/1.0/
 file/get/91907200?profile=original
ATTENDEE;ROLE=REQ-PARTICIPANT;PARTSTAT=ACCEPTED;RSVP=TRUE;CN="patricia
  dominy":https://www.baristaexchange.com/profile/patriciadominy
ATTENDEE;ROLE=REQ-PARTICIPANT;PARTSTAT=ACCEPTED;RSVP=TRUE;CN="Shannon 
 Hudgens":https://www.baristaexchange.com/profile/ShannonHudgens
ATTENDEE;ROLE=REQ-PARTICIPANT;PARTSTAT=ACCEPTED;RSVP=TRUE;CN="Danah Mc
 Kinney":https://www.baristaexchange.com/profile/DanahMcKinney
ATTENDEE;ROLE=REQ-PARTICIPANT;PARTSTAT=ACCEPTED;RSVP=TRUE;CN="George H
  Holt":https://www.baristaexchange.com/profile/GeorgeHHolt
ATTENDEE;ROLE=REQ-PARTICIPANT;PARTSTAT=ACCEPTED;RSVP=TRUE;CN="Jason Do
 miny":https://www.baristaexchange.com/profile/jdominy
ATTENDEE;ROLE=REQ-PARTICIPANT;PARTSTAT=TENTATIVE;RSVP=TRUE;CN="greg co
 stello":https://www.baristaexchange.com/profile/gregcostello
ATTENDEE;ROLE=REQ-PARTICIPANT;PARTSTAT=TENTATIVE;RSVP=TRUE;CN=BaristaO
 nDutY:https://www.baristaexchange.com/profile/Baristaonduty
ATTENDEE;ROLE=REQ-PARTICIPANT;PARTSTAT=TENTATIVE;RSVP=TRUE;CN="Chris A
 virett":https://www.baristaexchange.com/profile/cavirett
END:VEVENT
END:VCALENDAR
