BEGIN:VCALENDAR
PRODID:NingEventWidget-v1
VERSION:2.0
METHOD:PUBLISH
BEGIN:VTIMEZONE
TZID:America/Los_Angeles
X-LIC-LOCATION:America/Los_Angeles
BEGIN:DAYLIGHT
TZOFFSETFROM:-0800
TZOFFSETTO:-0700
TZNAME:PDT
DTSTART:19700308T020000
RRULE:FREQ=YEARLY;BYMONTH=3;BYDAY=2SU
END:DAYLIGHT
BEGIN:STANDARD
TZOFFSETFROM:-0700
TZOFFSETTO:-0800
TZNAME:PST
DTSTART:19701101T020000
RRULE:FREQ=YEARLY;BYMONTH=11;BYDAY=1SU
END:STANDARD
END:VTIMEZONE
BEGIN:VEVENT
UID:1688216:Event:559107
DTSTAMP:20260423T165119Z
SUMMARY:Absolute Espresso
DESCRIPTION:School espresso & Latia Art\n\nFor more information visit 
 https://www.baristaexchange.com/events/absolute-espresso
DTSTART;TZID=America/Los_Angeles:20090922T000000
DTEND;TZID=America/Los_Angeles:20090923T235900
CATEGORIES:espresso, late, art, school
LOCATION:New Jersey
WEBSITE:http://absoluteespresso.com
URL:http://absoluteespresso.com
CONTACT:Call 973 808 0488
ORGANIZER;CN="Joel Cohen":https://www.baristaexchange.com/profile/Joel
 Cohen
ATTACH;FMTTYPE="image/jpeg":
ATTENDEE;ROLE=REQ-PARTICIPANT;PARTSTAT=ACCEPTED;RSVP=TRUE;CN="Joel Coh
 en":https://www.baristaexchange.com/profile/JoelCohen
END:VEVENT
END:VCALENDAR
