BEGIN:VCALENDAR
PRODID:NingEventWidget-v1
VERSION:2.0
METHOD:PUBLISH
BEGIN:VTIMEZONE
TZID:America/Los_Angeles
X-LIC-LOCATION:America/Los_Angeles
BEGIN:DAYLIGHT
TZOFFSETFROM:-0800
TZOFFSETTO:-0700
TZNAME:PDT
DTSTART:19700308T020000
RRULE:FREQ=YEARLY;BYMONTH=3;BYDAY=2SU
END:DAYLIGHT
BEGIN:STANDARD
TZOFFSETFROM:-0700
TZOFFSETTO:-0800
TZNAME:PST
DTSTART:19701101T020000
RRULE:FREQ=YEARLY;BYMONTH=11;BYDAY=1SU
END:STANDARD
END:VTIMEZONE
BEGIN:VEVENT
UID:1688216:Event:331362
DTSTAMP:20260423T001021Z
SUMMARY:A Throwdown in Olytown!
DESCRIPTION:The fine folks at Olympia Coffee Roasting Co. would like t
 o invite everyone to join us for a grand evening of artful pours, witt
 y banter, and CHOCOLATE COFFEE CUPCAKES.\n\nThe festivities will begin
  around 7:00 pm, with the Throwdown at 8:00. $5 dollar entry with the 
 winner taking it all! Also, I'd like to encourage anyone who'd wish to
  pour without putting up a Lincoln to come on out and have a good time
 .\n\nThanks so much! We're hoping to see you there.\n\nFor more inform
 ation visit https://www.baristaexchange.com/events/a-throwdown-in-olyt
 own
DTSTART;TZID=America/Los_Angeles:20090220T190000
DTEND;TZID=America/Los_Angeles:20090220T220000
CATEGORIES:throwdown, coffee, nerdery, latte, art
LOCATION:Olympia Coffee Roasting Co.'s ~ Cherry Street Roasting Works 
 & Cafe
WEBSITE:http://www.olympiacoffee.com
URL:http://www.olympiacoffee.com
CONTACT:(360) 753-0066
ORGANIZER;CN="Mike Cannon":https://www.baristaexchange.com/profile/Mik
 eCannon
ATTACH;FMTTYPE="image/jpeg":http://storage.ning.com/topology/rest/1.0/
 file/get/91905453?profile=original
ATTENDEE;ROLE=REQ-PARTICIPANT;PARTSTAT=ACCEPTED;RSVP=TRUE;CN="scott@he
 rkimercoffee.com":https://www.baristaexchange.com/profile/scottherkime
 rcoffeecom
ATTENDEE;ROLE=REQ-PARTICIPANT;PARTSTAT=ACCEPTED;RSVP=TRUE;CN=Janelle:h
 ttps://www.baristaexchange.com/profile/Janelle
ATTENDEE;ROLE=REQ-PARTICIPANT;PARTSTAT=ACCEPTED;RSVP=TRUE;CN=pandaman7
 3:https://www.baristaexchange.com/profile/pandaman73
ATTENDEE;ROLE=REQ-PARTICIPANT;PARTSTAT=ACCEPTED;RSVP=TRUE;CN="Kevan Wa
 lker":https://www.baristaexchange.com/profile/KevanWalker
ATTENDEE;ROLE=REQ-PARTICIPANT;PARTSTAT=ACCEPTED;RSVP=TRUE;CN=Schroaste
 r:https://www.baristaexchange.com/profile/samschroeder
ATTENDEE;ROLE=REQ-PARTICIPANT;PARTSTAT=ACCEPTED;RSVP=TRUE;CN="Sara Lou
 ise":https://www.baristaexchange.com/profile/SaraLouise
ATTENDEE;ROLE=REQ-PARTICIPANT;PARTSTAT=ACCEPTED;RSVP=TRUE;CN=elvin:htt
 ps://www.baristaexchange.com/profile/elvin
ATTENDEE;ROLE=REQ-PARTICIPANT;PARTSTAT=ACCEPTED;RSVP=TRUE;CN="Mike Can
 non":https://www.baristaexchange.com/profile/MikeCannon
ATTENDEE;ROLE=REQ-PARTICIPANT;PARTSTAT=TENTATIVE;RSVP=TRUE;CN="Scott G
 uglielmino":https://www.baristaexchange.com/profile/ScottGuglielmino
ATTENDEE;ROLE=REQ-PARTICIPANT;PARTSTAT=TENTATIVE;RSVP=TRUE;CN="Mike Mc
 Ginness":https://www.baristaexchange.com/profile/miKemcKoffeeakaMikeMc
 Ginness
ATTENDEE;ROLE=REQ-PARTICIPANT;PARTSTAT=TENTATIVE;RSVP=TRUE;CN=Ray:http
 s://www.baristaexchange.com/profile/Ray
END:VEVENT
END:VCALENDAR
