BEGIN:VCALENDAR
PRODID:NingEventWidget-v1
VERSION:2.0
METHOD:PUBLISH
BEGIN:VTIMEZONE
TZID:America/Los_Angeles
X-LIC-LOCATION:America/Los_Angeles
BEGIN:DAYLIGHT
TZOFFSETFROM:-0800
TZOFFSETTO:-0700
TZNAME:PDT
DTSTART:19700308T020000
RRULE:FREQ=YEARLY;BYMONTH=3;BYDAY=2SU
END:DAYLIGHT
BEGIN:STANDARD
TZOFFSETFROM:-0700
TZOFFSETTO:-0800
TZNAME:PST
DTSTART:19701101T020000
RRULE:FREQ=YEARLY;BYMONTH=11;BYDAY=1SU
END:STANDARD
END:VTIMEZONE
BEGIN:VEVENT
UID:1688216:Event:322867
DTSTAMP:20260420T031734Z
SUMMARY:8th National Brazilian Barista Championship
DESCRIPTION:We will have the Coffee in Good Spirits, Latte Art & Cup T
 asting Competitions besides the Barista Championship\n\nCompetitors\n\
 nSoutheast\nSÃ£o Paulo\n1st Place - CecÃ­lia Sanada â€“ Octavio CafÃ©\
 n2nd Place - Bruno Ferreira da Silva - Suplicy\n3rd Place - Rafael God
 oy - Suplicy\n4th Place - Bruna Batista da Silva - Suplicy\n5th Place 
 - Willian de Andrade Fahl - Octavio CafÃ©\n6th Place - Luciano SalomÃ£
 o â€“ Santo GrÃ£o\n\nRio de Janeiro\n1st Place - Leo Carvalho - Casa d
 o Barista\n2nd Place - Ana Paula Prolon - Barista CafÃ©s\n3rd Place - 
 LÃ©o MoÃ§o\n4th Place - Emerson do Nascimento - Espresso CafÃ©\n5th Pl
 ace - Aline Claussen - Maria Torta\n\nCentral West\nBrasÃ­lia/DF\n1st 
 Place - Paulinho Lima - CafÃ© Cristina\n2nd Place - MÃ¡rcio Dias - Qui
 tinete\n3rd Place - Daniel Viana - Balaio CafÃ©\n\nNortheast\nBahia\n1
 st Place - Alessandra Portela - Lucca CafÃ©s Especiais\n2nd Place - Na
 Ã­lton de Jesus B. Reis - Feito a GrÃ£o\n3rd Place - Cleiton Pimentel 
 Souza - Feito a GrÃ£o\n4th Place - Ana Paula dos Santos - Lucca CafÃ©s
  Especiais\n5th Place - Jardel Alves Pereira - Feito a GrÃ£o\n6th Plac
 e - NaÃ­ra Meneses MendonÃ§a - Portela CafÃ©\n7th Place - Luiz Claudio
  Azevedo â€“ Feito a GrÃ£o\n8th Place - Joice dos Santos â€“ Lucca Caf
 Ã©s Especiais\n\nSouth\nParanÃ¡ - Curitiba\n1st PLace - Lilian da Silv
 a Machado - Lucca CafÃ©s Especiais\n2nd Place - Luiz Otavio Linhares -
  Lucca CafÃ©s Especiais\n3rd Place - Graciele Rodrigues - Lucca CafÃ©s
  Especiais\n4th Place - Vera Regina da Silva - Exprex CafÃ©\n\nRS/SC â
 €“ Porto Alegre\n1st Place - Viviane de Bem - CafÃ© do Mercado\n2nd Pl
 ace - DÃ©bora Oliveira - Hamorim\n3rd Place - Rodrigo Caetano - Quixot
 e Resto-Bar\n4th Place - Tiago Mello - CafÃ© do Mercado\n5th Place - D
 iego Buchfink - Press CafÃ©\n\nClassifieds from the 7th Brazilian Nati
 onal Barista Championship\n\n1st Place - Everton Peter â€“ Press CafÃ©
 \n2nd Place - Yara ThaÃ­s Castanho - Suplicy\n3rd Place - Carlos Eduar
 do Diniz - SindicafÃ©\n4th Place - Mirian Soares Masui â€“ CafÃ© do Me
 rcado\n5th Place - JosÃ© Renato Figueiredo â€“ Octavio CafÃ©\n6th Plac
 e - Tatiane Barbosa Rodrigues - Cafemaq\n\nFor more information visit 
 https://www.baristaexchange.com/events/8th-national-brazilian-barista
DTSTART;TZID=America/Los_Angeles:20090216T000000
DTEND;TZID=America/Los_Angeles:20090218T235900
CATEGORIES:national, championship
LOCATION:MuBE - Brazilian Sculpture Museum
WEBSITE:http://www.acbb.com.br/campeonatos/brasileirodebarista/viii-20
 08.htm
URL:http://www.acbb.com.br/campeonatos/brasileirodebarista/viii-2008.h
 tm
CONTACT:+55 (11) 9382-7658/+55 (11) 3083-3670/+55 (35) 9974-2297
ORGANIZER:ACBB - AssociaÃ§Ã£o Brasileira de CafÃ© e Barista
ATTACH;FMTTYPE="image/jpeg":http://storage.ning.com/topology/rest/1.0/
 file/get/91905144?profile=original
ATTENDEE;ROLE=REQ-PARTICIPANT;PARTSTAT=ACCEPTED;RSVP=TRUE;CN="Anton Si
 gurÃ°ur SigrÃ­Ã°arson":https://www.baristaexchange.com/profile/asm
ATTENDEE;ROLE=REQ-PARTICIPANT;PARTSTAT=ACCEPTED;RSVP=TRUE;CN="Ed Ishid
 a":https://www.baristaexchange.com/profile/Ishida
END:VEVENT
END:VCALENDAR
