BEGIN:VCALENDAR
PRODID:NingEventWidget-v1
VERSION:2.0
METHOD:PUBLISH
BEGIN:VTIMEZONE
TZID:America/Los_Angeles
X-LIC-LOCATION:America/Los_Angeles
BEGIN:DAYLIGHT
TZOFFSETFROM:-0800
TZOFFSETTO:-0700
TZNAME:PDT
DTSTART:19700308T020000
RRULE:FREQ=YEARLY;BYMONTH=3;BYDAY=2SU
END:DAYLIGHT
BEGIN:STANDARD
TZOFFSETFROM:-0700
TZOFFSETTO:-0800
TZNAME:PST
DTSTART:19701101T020000
RRULE:FREQ=YEARLY;BYMONTH=11;BYDAY=1SU
END:STANDARD
END:VTIMEZONE
BEGIN:VEVENT
UID:1688216:Event:792927
DTSTAMP:20260423T065557Z
SUMMARY:2010 Middle East Coffee & Tea Convention
DESCRIPTION:Middle East's only dedicated trade event for the coffee & 
 tea Industry. The three-day event will feature an exhibition, skill la
 bs and lectures, and the 2nd UAE Barista Championship. Interested to g
 et involved or attend the event? Email info@icedxb.com.\n\nFor more in
 formation visit https://www.baristaexchange.com/events/2010-middle-eas
 t-coffee-tea
DTSTART;TZID=America/Los_Angeles:20101012T000000
DTEND;TZID=America/Los_Angeles:20101014T235900
CATEGORIES:trade, and, general, public
LOCATION:Al Bustan Rotana Convention Centre
WEBSITE:http://www.coffeeandteaconvention.com
URL:http://www.coffeeandteaconvention.com
CONTACT:+971 4 3355001
ORGANIZER:IC & E and SCAA
ATTACH;FMTTYPE="image/jpeg":http://storage.ning.com/topology/rest/1.0/
 file/get/91916048?profile=original
ATTENDEE;ROLE=REQ-PARTICIPANT;PARTSTAT=ACCEPTED;RSVP=TRUE;CN="Jared Ru
 tledge":https://www.baristaexchange.com/profile/JaredRutledge
ATTENDEE;ROLE=REQ-PARTICIPANT;PARTSTAT=ACCEPTED;RSVP=TRUE;CN="May Juan
 ":https://www.baristaexchange.com/profile/MayJuan
END:VEVENT
END:VCALENDAR
