BEGIN:VCALENDAR
PRODID:NingEventWidget-v1
VERSION:2.0
METHOD:PUBLISH
BEGIN:VTIMEZONE
TZID:America/Los_Angeles
X-LIC-LOCATION:America/Los_Angeles
BEGIN:DAYLIGHT
TZOFFSETFROM:-0800
TZOFFSETTO:-0700
TZNAME:PDT
DTSTART:19700308T020000
RRULE:FREQ=YEARLY;BYMONTH=3;BYDAY=2SU
END:DAYLIGHT
BEGIN:STANDARD
TZOFFSETFROM:-0700
TZOFFSETTO:-0800
TZNAME:PST
DTSTART:19701101T020000
RRULE:FREQ=YEARLY;BYMONTH=11;BYDAY=1SU
END:STANDARD
END:VTIMEZONE
BEGIN:VEVENT
UID:1688216:Event:864797
DTSTAMP:20260423T113704Z
SUMMARY:2010 Canadian Barista Championship
DESCRIPTION:Catch the action as some of the country’s best baristas 
 demonstrate the art of making the perfect espresso drinks. Each compet
 itor must prepare and serve 12 separate espresso beverages: 4 espresso
 , 4 cappuccinos, and 4 \"signature\" drinks of their own creation, and
  present them to a distinguished panel of judges. Competitors have onl
 y fifteen minutes to prepare all twelve drinks and are judged on stati
 on cleanliness, taste, beverage presentation, technical skills and ove
 rall judges impression.\n\nFor more information visit https://www.bari
 staexchange.com/events/2010-canadian-barista
DTSTART;TZID=America/Los_Angeles:20100926T000000
DTEND;TZID=America/Los_Angeles:20100927T235900
CATEGORIES:national, competition
LOCATION:The International Centre - Hall 1
WEBSITE:http://www.canadianbaristachampionship.com
URL:http://www.canadianbaristachampionship.com
CONTACT:416.504.0504
ORGANIZER;CN="Canadian Barista Championship":https://www.baristaexchan
 ge.com/profile/CanadianBaristaChampionship
ATTACH;FMTTYPE="image/jpeg":http://storage.ning.com/topology/rest/1.0/
 file/get/91918121?profile=original
ATTENDEE;ROLE=REQ-PARTICIPANT;PARTSTAT=ACCEPTED;RSVP=TRUE;CN="Canadian
  Barista Championship":https://www.baristaexchange.com/profile/Canadia
 nBaristaChampionship
END:VEVENT
END:VCALENDAR
