BEGIN:VCALENDAR
PRODID:NingEventWidget-v1
VERSION:2.0
METHOD:PUBLISH
BEGIN:VTIMEZONE
TZID:America/Los_Angeles
X-LIC-LOCATION:America/Los_Angeles
BEGIN:DAYLIGHT
TZOFFSETFROM:-0800
TZOFFSETTO:-0700
TZNAME:PDT
DTSTART:19700308T020000
RRULE:FREQ=YEARLY;BYMONTH=3;BYDAY=2SU
END:DAYLIGHT
BEGIN:STANDARD
TZOFFSETFROM:-0700
TZOFFSETTO:-0800
TZNAME:PST
DTSTART:19701101T020000
RRULE:FREQ=YEARLY;BYMONTH=11;BYDAY=1SU
END:STANDARD
END:VTIMEZONE
BEGIN:VEVENT
UID:1688216:Event:989381
DTSTAMP:20260422T054431Z
SUMMARY:1YR Anniversary NY Day SO Espresso Shoot-Out
DESCRIPTION:Early this year Ethiopia Haile Selassie blewÂ us away as a
 bout the best DP since IMV '07. I set aside a 15#Â green vac packÂ inÂ
  the freezer for NY Day to celebrate the One Year opening of the retai
 l coffeehouse at the Roastery location. Well wouldn't you knowÂ late i
 n the year Ethiopia Jimma -Nigusie Lemma came along and blew me away a
 gain as quite possibly my favorite SO espresso straight shot of the ye
 ar. And as a cap' it's like a great fruity artisan chocolate cup of cr
 eamy hot choclate.\nÂ \nSo now instead of Haile being the Star NY Day 
 it'll be two of our SO espresso grinders in a Heavy Weight fight to th
 e finish. Who will win the title as best SO espresso of 2010! The Bett
 ing Line too close to call:)\nÂ \nThe contenders spent time with the U
 SRC 3k today in preparation for the match in 8 days. Man, the smell of
  both enough to make me swoon, so delish. Gonna be a hellova spro down
 !\nÂ \nThere will also likely be a warm-up performance in SO espresso 
 grinder #3 by a new Peru also spending time in the USRC today. Smell a
 nd post roast bean munch say smooth and delightful with dancing light 
 lemon-lime zest.\nÂ \nAs always, our flagship Delirium blend will be o
 n hand to offer encouragement to the combatants.\nÂ \nBoth coffees wil
 l be available New Years day not only as an espresso, but also availab
 le whole bean for purchase to brew at home.\nÂ \nHeard rumor Head Bean
  and Roast Master changed roast hats and will be bringing in some of h
 is maple and apple wood smoked Ham, apple wood smokedÂ Sharp Cheddar a
 nd cherry wood smoked Gouda and assorted crackers for munching too.\n\
 nÂ \n\nFor more information visit https://www.baristaexchange.com/even
 ts/1yr-anniversary-ny-day-so
DTSTART;TZID=America/Los_Angeles:20110101T090000
DTEND;TZID=America/Los_Angeles:20110101T140000
CATEGORIES:one, year, anniversary, so, espresso, shoot-out
LOCATION:St. Johns Roastery
WEBSITE:http://www.compasscoffeeroasting.com
URL:http://www.compasscoffeeroasting.com
CONTACT:360-989-6658
ORGANIZER;CN="Mike McGinness":https://www.baristaexchange.com/profile/
 miKemcKoffeeakaMikeMcGinness
ATTACH;FMTTYPE="image/jpeg":
ATTENDEE;ROLE=REQ-PARTICIPANT;PARTSTAT=ACCEPTED;RSVP=TRUE;CN="Joseph P
 laugher":https://www.baristaexchange.com/profile/JosephPlaugher
ATTENDEE;ROLE=REQ-PARTICIPANT;PARTSTAT=ACCEPTED;RSVP=TRUE;CN="Mike McG
 inness":https://www.baristaexchange.com/profile/miKemcKoffeeakaMikeMcG
 inness
END:VEVENT
END:VCALENDAR
