BEGIN:VCALENDAR
PRODID:NingEventWidget-v1
VERSION:2.0
METHOD:PUBLISH
BEGIN:VTIMEZONE
TZID:America/Los_Angeles
X-LIC-LOCATION:America/Los_Angeles
BEGIN:DAYLIGHT
TZOFFSETFROM:-0800
TZOFFSETTO:-0700
TZNAME:PDT
DTSTART:19700308T020000
RRULE:FREQ=YEARLY;BYMONTH=3;BYDAY=2SU
END:DAYLIGHT
BEGIN:STANDARD
TZOFFSETFROM:-0700
TZOFFSETTO:-0800
TZNAME:PST
DTSTART:19701101T020000
RRULE:FREQ=YEARLY;BYMONTH=11;BYDAY=1SU
END:STANDARD
END:VTIMEZONE
BEGIN:VEVENT
UID:1688216:Event:327966
DTSTAMP:20260422T154805Z
SUMMARY:1.st Serbian Barista Championship
DESCRIPTION:1.st serbian barista championship, judges calibration, cof
 fee promotional event\n\nFor more information visit https://www.barist
 aexchange.com/events/1st-serbian-barista
DTSTART;TZID=America/Los_Angeles:20090303T000000
DTEND;TZID=America/Los_Angeles:20090304T235900
CATEGORIES:barista, championship
LOCATION:Hayatt hotel Beograd
WEBSITE:
URL:
CONTACT:
ORGANIZER:SCAE Serbia
ATTACH;FMTTYPE="image/jpeg":http://storage.ning.com/topology/rest/1.0/
 file/get/91905189?profile=original
ATTENDEE;ROLE=REQ-PARTICIPANT;PARTSTAT=ACCEPTED;RSVP=TRUE;CN="nik oros
 i":https://www.baristaexchange.com/profile/nikorosi
END:VEVENT
END:VCALENDAR
