BEGIN:VCALENDAR
PRODID:NingEventWidget-v1
VERSION:2.0
METHOD:PUBLISH
BEGIN:VTIMEZONE
TZID:America/Los_Angeles
X-LIC-LOCATION:America/Los_Angeles
BEGIN:DAYLIGHT
TZOFFSETFROM:-0800
TZOFFSETTO:-0700
TZNAME:PDT
DTSTART:19700308T020000
RRULE:FREQ=YEARLY;BYMONTH=3;BYDAY=2SU
END:DAYLIGHT
BEGIN:STANDARD
TZOFFSETFROM:-0700
TZOFFSETTO:-0800
TZNAME:PST
DTSTART:19701101T020000
RRULE:FREQ=YEARLY;BYMONTH=11;BYDAY=1SU
END:STANDARD
END:VTIMEZONE
BEGIN:VEVENT
UID:1688216:Event:653433
DTSTAMP:20260421T195633Z
SUMMARY:Host
DESCRIPTION:We take pleasure in informing you that C.M.A. Astoria espr
 esso and\ncappuccino coffee machines will be on display at the coming 
 edition of\nHOST which will take place in Milan (Italy) from Frid...ay
  October 23 to\nTuesday October 27. Due to the economic impact of the 
 sectors and\nplayers involved, Host, more than any other event, is the
  true showcase\nof Italian excellence. It cannot be missed! Come and m
 eet us at Stand\nE52 G51 - Pav. 11P\n\nFor more information visit http
 s://www.baristaexchange.com/events/1688216:Event:653433
DTSTART;TZID=America/Los_Angeles:20091023T000000
DTEND;TZID=America/Los_Angeles:20091027T235900
CATEGORIES:trade, show
LOCATION:Milan
WEBSITE:http://www.host.fieramilanoexpocts.it/?id=Mi16LXotZW5n
URL:http://www.host.fieramilanoexpocts.it/?id=Mi16LXotZW5n
CONTACT:
ORGANIZER:
ATTACH;FMTTYPE="image/jpeg":http://storage.ning.com/topology/rest/1.0/
 file/get/91912160?profile=original
ATTENDEE;ROLE=REQ-PARTICIPANT;PARTSTAT=ACCEPTED;RSVP=TRUE;CN=Jason:htt
 ps://www.baristaexchange.com/profile/jasonjones
END:VEVENT
END:VCALENDAR
